BEGIN:VCALENDAR
PRODID:-//Microsoft Corporation//Outlook 14.0 MIMEDIR//EN
VERSION:2.0
METHOD:PUBLISH
BEGIN:VEVENT
UID:11e97161fcd25fc004ab2250c3ecf516membres.aqrp.ca
DTSTAMP:20260425T121252Z
DTSTART:2026-05-19T09:30:0000Z
DTEND:2026-05-19T13:30:0000Z
SUMMARY:Outaouais | Dîner-conférence : Mon mieux-être j’y vois!
LOCATION:Résidence Chartwell Cité-Jardin, 70, rue de la Futaie, Gatineau
DESCRIPTION:Vous souhaitez retrouver plus de calme, de sérénité et de confiance au quotidien? Joignez-vous à nous pour une conférence accessible, humaine et motivante.
END:VEVENT
END:VCALENDAR