BEGIN:VCALENDAR
PRODID:-//Microsoft Corporation//Outlook 14.0 MIMEDIR//EN
VERSION:2.0
METHOD:PUBLISH
BEGIN:VEVENT
UID:387edc6e14e44c04373fb9d830bfd512membres.aqrp.ca
DTSTAMP:20260421T095728Z
DTSTART:2026-05-14T10:00:0000Z
DTEND:2026-05-14T15:30:0000Z
SUMMARY:Lanaudière | Dîner-conférence 2026
LOCATION:Jolodium, 12 rue Richelieu, Notre-Dame-des-Prairies
DESCRIPTION:Nous vous invitons à deux conférences en lien avec la santé des aînés.
END:VEVENT
END:VCALENDAR