BEGIN:VCALENDAR
PRODID:-//Microsoft Corporation//Outlook 14.0 MIMEDIR//EN
VERSION:2.0
METHOD:PUBLISH
BEGIN:VEVENT
UID:19aaf2731d0c33d871885cc00cae8e7amembres.aqrp.ca
DTSTAMP:20260421T112915Z
DTSTART:2026-07-10T14:00:0000Z
DTEND:2026-07-10T16:00:0000Z
SUMMARY:Montérégie | Pièce de théâtre «Bienvevue à St-Déclin»
LOCATION:Théâtre des Hirondelles, 4920 ch. des Grands-Coteaux, Saint-Mathieu-de-Beloeil
DESCRIPTION:Le conseil régional de l’AQRP-Montérégie convie ses membres à assister à la présentation de la pièce «Bienvenue à St-Déclin».
END:VEVENT
END:VCALENDAR